BEGIN:VCALENDAR
VERSION:2.0
PRODID:-//Orchid Asana - ECPv4.8.2//NONSGML v1.0//EN
CALSCALE:GREGORIAN
METHOD:PUBLISH
X-WR-CALNAME:Orchid Asana
X-ORIGINAL-URL:http://orchidasana.com
X-WR-CALDESC:Events for Orchid Asana
BEGIN:VEVENT
DTSTART;TZID=America/New_York:20190528T180000
DTEND;TZID=America/New_York:20190528T190000
DTSTAMP:20260421T022349
CREATED:20190416T150838Z
LAST-MODIFIED:20190416T151422Z
UID:400-1559066400-1559070000@orchidasana.com
SUMMARY:Slow Flow Yoga Class
DESCRIPTION:Let breath guide you through your practice. Take a little extra time in this class to feel your way into the poses without feeling rushed. You will build strength and flexibility while mindfully being guided through the class. This class is good for all levels.  Register on Big Tree Fitness‘s website\, or arrive 10 minutes prior to start time to register on site. \nPlease follow and like us:
URL:http://orchidasana.com/event/slow-flow-yoga-class-7/
LOCATION:Big Tree Fitness\, 1698 Merriman Rd.\, Akron\, OH\, 44313\, United States
END:VEVENT
END:VCALENDAR