BEGIN:VCALENDAR
VERSION:2.0
PRODID:-//Orchid Asana - ECPv4.8.2//NONSGML v1.0//EN
CALSCALE:GREGORIAN
METHOD:PUBLISH
X-WR-CALNAME:Orchid Asana
X-ORIGINAL-URL:http://orchidasana.com
X-WR-CALDESC:Events for Orchid Asana
BEGIN:VEVENT
DTSTART;VALUE=DATE:20190420
DTEND;VALUE=DATE:20190513
DTSTAMP:20260421T004811
CREATED:20190416T150556Z
LAST-MODIFIED:20190416T150556Z
UID:398-1555718400-1557705599@orchidasana.com
SUMMARY:Vacation
DESCRIPTION:Hi Yogis! \nI’ll be stepping away for a few weeks.  See you when I’m back the week of May 13! \nPlease follow and like us:
URL:http://orchidasana.com/event/vacation/
END:VEVENT
END:VCALENDAR